BEGIN:VCALENDAR
VERSION:2.0
PRODID:-//wp-events-plugin.com//7.2.3.1//EN
BEGIN:VEVENT
UID:439@bcgardenclubs.com
DTSTART;TZID=America/Vancouver:20260425T100000
DTEND;TZID=America/Vancouver:20260425T150000
DTSTAMP:20260327T053400Z
URL:https://bcgardenclubs.com/events/bccgc-spring-agm/
SUMMARY:BCCGC Spring AGM
DESCRIPTION:BCCGC Spring Meeting & AGM. Save the date!
ATTACH;FMTTYPE=image/jpeg:https://bcgardenclubs.com/wp-content/uploads/202
 4/09/bccgc-spring-2026-1.webp
LOCATION:Bonsor Community Centre\, 6550 Bonsor Ave\, Burnaby\, BC\, V5H 3G4
 \, Canada
GEO:49.224257;-122.996754
X-APPLE-STRUCTURED-LOCATION;VALUE=URI;X-ADDRESS=6550 Bonsor Ave\, Burnaby\,
  BC\, V5H 3G4\, Canada;X-APPLE-RADIUS=100;X-TITLE=Bonsor Community Centre:
 geo:49.224257,-122.996754
END:VEVENT
BEGIN:VTIMEZONE
TZID:America/Vancouver
X-LIC-LOCATION:America/Vancouver
BEGIN:DAYLIGHT
DTSTART:20260308T030000
TZOFFSETFROM:-0800
TZOFFSETTO:-0700
TZNAME:PDT
END:DAYLIGHT
END:VTIMEZONE
END:VCALENDAR