BEGIN:VCALENDAR
VERSION:2.0
PRODID:-//wp-events-plugin.com//7.2.3.1//EN
BEGIN:VEVENT
UID:548@bcgardenclubs.com
DTSTART;TZID=America/Vancouver:20260425T100000
DTEND;TZID=America/Vancouver:20260425T140000
DTSTAMP:20260402T053103Z
URL:https://bcgardenclubs.com/events/cowichan-valley-garden-club-plant-sal
 e/
SUMMARY:Cowichan Valley Garden Club Plant Sale
DESCRIPTION:Jump Start your Garden with this great sale of perennials\, ann
 uals\, veggie starts\, shrubs\, ground covers\, berry plants and much more
 .    Cash or credit cards accepted.  Come early for best selection!
ATTACH;FMTTYPE=image/jpeg:https://bcgardenclubs.com/wp-content/uploads/202
 6/04/plantsale2026greensmallest.jpg
LOCATION:Si'em Lelum Gym Parking Lot\, 5574 River Road\, Duncan\, B.C.\, Ca
 nada
GEO:48.773849;-123.708095
X-APPLE-STRUCTURED-LOCATION;VALUE=URI;X-ADDRESS=5574 River Road\, Duncan\, 
 B.C.\, Canada;X-APPLE-RADIUS=100;X-TITLE=Si'em Lelum Gym Parking Lot:geo:4
 8.773849,-123.708095
END:VEVENT
BEGIN:VTIMEZONE
TZID:America/Vancouver
X-LIC-LOCATION:America/Vancouver
BEGIN:DAYLIGHT
DTSTART:20260308T030000
TZOFFSETFROM:-0800
TZOFFSETTO:-0700
TZNAME:PDT
END:DAYLIGHT
END:VTIMEZONE
END:VCALENDAR