BEGIN:VCALENDAR
VERSION:2.0
PRODID:-//wp-events-plugin.com//7.2.3.1//EN
BEGIN:VEVENT
UID:543@bcgardenclubs.com
DTSTART;TZID=America/Vancouver:20260502T090000
DTEND;TZID=America/Vancouver:20260502T140000
DTSTAMP:20260324T030025Z
URL:https://bcgardenclubs.com/events/langley-garden-club-spring-sale/
SUMMARY:Langley Garden Club Spring Sale
DESCRIPTION:45th Annual SPRING FLOWER SHOW &amp\; PLANT SALE\n(Including Co
 mmercial Growers\, Bake Sale and Plant Sale)
ATTACH;FMTTYPE=image/jpeg:https://bcgardenclubs.com/wp-content/uploads/202
 6/03/events-lgc-2026.jpg
LOCATION:Southridge Fellowship\, 22756 48th Ave\, Langley\, B.C.\, Canada
GEO:49.088431;-122.593423
X-APPLE-STRUCTURED-LOCATION;VALUE=URI;X-ADDRESS=22756 48th Ave\, Langley\, 
 B.C.\, Canada;X-APPLE-RADIUS=100;X-TITLE=Southridge Fellowship:geo:49.0884
 31,-122.593423
END:VEVENT
BEGIN:VTIMEZONE
TZID:America/Vancouver
X-LIC-LOCATION:America/Vancouver
BEGIN:DAYLIGHT
DTSTART:20260308T030000
TZOFFSETFROM:-0800
TZOFFSETTO:-0700
TZNAME:PDT
END:DAYLIGHT
END:VTIMEZONE
END:VCALENDAR