BEGIN:VCALENDAR
VERSION:2.0
PRODID:-//wp-events-plugin.com//7.2.3.1//EN
BEGIN:VEVENT
UID:549@bcgardenclubs.com
DTSTART;TZID=America/Vancouver:20260509T100000
DTEND;TZID=America/Vancouver:20260509T140000
DTSTAMP:20260402T053341Z
URL:https://bcgardenclubs.com/events/nanaimo-rhododendron-society-truss-sh
 ow-and-plant-sale/
SUMMARY:Nanaimo Rhododendron Society Truss Show and Plant Sale
DESCRIPTION:The truss show features the wide variety of rhododendron blooms
  and foliage grown on central Vancouver Island.  This year’s sale will 
 have lots of rhododendron cuttings that will be ready for sale and enough 
 exciting vendors (both new and returning) to fill up the hall! As well as 
 rhododendrons\, the plant sale features perennials\, alpine and woodland p
 lants\, bulbs\, and seeds and the other garden-related items including out
 door pottery and wooden structural supports.  This year\, a native plant 
 nursery will sell some plants as well.
ATTACH;FMTTYPE=image/jpeg:https://bcgardenclubs.com/wp-content/uploads/202
 6/04/R.excellence.jpg
LOCATION:Beban Park Centennial Building\, 2300 Bowen Road\, Nanaimo\, BC\, 
 Canada
GEO:49.198043;-123.991018
X-APPLE-STRUCTURED-LOCATION;VALUE=URI;X-ADDRESS=2300 Bowen Road\, Nanaimo\,
  BC\, Canada;X-APPLE-RADIUS=100;X-TITLE=Beban Park Centennial Building:geo
 :49.198043,-123.991018
END:VEVENT
BEGIN:VTIMEZONE
TZID:America/Vancouver
X-LIC-LOCATION:America/Vancouver
BEGIN:DAYLIGHT
DTSTART:20260308T030000
TZOFFSETFROM:-0800
TZOFFSETTO:-0700
TZNAME:PDT
END:DAYLIGHT
END:VTIMEZONE
END:VCALENDAR