BEGIN:VCALENDAR
VERSION:2.0
PRODID:-//wp-events-plugin.com//7.2.3.1//EN
BEGIN:VEVENT
UID:544@bcgardenclubs.com
DTSTART;TZID=America/Vancouver:20260509T100000
DTEND;TZID=America/Vancouver:20260509T140000
DTSTAMP:20260324T201222Z
URL:https://bcgardenclubs.com/events/new-westminster-horticultural-society
 -spring-plant-sale-2/
SUMMARY:New Westminster Horticultural Society Spring Plant Sale
DESCRIPTION:Members donate a variety of shady and sunny perennials and vege
 table seedlings that are at below Garden Outlet prices.  This year we wil
 l also have Mother's Day Floral Arrangements.\n\nCASH ONLY – Come early 
 as things sell out fast.
ATTACH;FMTTYPE=image/jpeg:https://bcgardenclubs.com/wp-content/uploads/202
 6/03/20250503_100531x.jpg
LOCATION:St Thomas More Collegiate\, 7450 - 12th Ave\, Burnaby \, BC\, Cana
 da
GEO:49.215213;-122.938463
X-APPLE-STRUCTURED-LOCATION;VALUE=URI;X-ADDRESS=7450 - 12th Ave\, Burnaby \
 , BC\, Canada;X-APPLE-RADIUS=100;X-TITLE=St Thomas More Collegiate:geo:49.
 215213,-122.938463
END:VEVENT
BEGIN:VTIMEZONE
TZID:America/Vancouver
X-LIC-LOCATION:America/Vancouver
BEGIN:DAYLIGHT
DTSTART:20260308T030000
TZOFFSETFROM:-0800
TZOFFSETTO:-0700
TZNAME:PDT
END:DAYLIGHT
END:VTIMEZONE
END:VCALENDAR