BEGIN:VCALENDAR
VERSION:2.0
PRODID:-//wp-events-plugin.com//7.2.3.1//EN
BEGIN:VEVENT
UID:527@bcgardenclubs.com
DTSTART;TZID=America/Vancouver:20260425T090000
DTEND;TZID=America/Vancouver:20260425T090000
DTSTAMP:20260223T184556Z
URL:https://bcgardenclubs.com/events/poco-garden-club-annual-spring-plant-
 sale/
SUMMARY:Poco Garden Club Annual Spring Plant Sale
DESCRIPTION:Don't miss the Poco Garden Club's Annual Spring Plant Sale. All
  plants are healthy\, hardy\, and locally grown in the members gardens. Fr
 om herbs and edibles to annuals\, perennials\, and shrubs. You'll get the 
 best deals in town. Organic Master Gardeners will be on hand to provide fr
 ee gardening advice.  There will also be a bake sale\, a raffle\, a garde
 n themed yard sale\, and tool sharpening.\, plus 50% off Club Membership w
 hen you spend $10 or more. We donate 50% of the proceeds of the plant sale
  to the University of the Fraser Valley Horticultural Program.
ATTACH;FMTTYPE=image/jpeg:https://bcgardenclubs.com/wp-content/uploads/202
 6/02/Picture1-1.jpg
LOCATION:Trinity United Church\, 2211 Prairie Avenue\, Port Coquitlam\, Bri
 tish Columbia\, V3B 1V8\, Canada
GEO:49.27174609999999;-122.7756549
X-APPLE-STRUCTURED-LOCATION;VALUE=URI;X-ADDRESS=2211 Prairie Avenue\, Port 
 Coquitlam\, British Columbia\, V3B 1V8\, Canada;X-APPLE-RADIUS=100;X-TITLE
 =Trinity United Church:geo:49.27174609999999,-122.7756549
END:VEVENT
BEGIN:VTIMEZONE
TZID:America/Vancouver
X-LIC-LOCATION:America/Vancouver
BEGIN:DAYLIGHT
DTSTART:20260308T030000
TZOFFSETFROM:-0800
TZOFFSETTO:-0700
TZNAME:PDT
END:DAYLIGHT
END:VTIMEZONE
END:VCALENDAR