BEGIN:VCALENDAR
VERSION:2.0
PRODID:-//wp-events-plugin.com//7.2.3.1//EN
BEGIN:VEVENT
UID:551@bcgardenclubs.com
DTSTART;TZID=America/Vancouver:20260509T100000
DTEND;TZID=America/Vancouver:20260509T140000
DTSTAMP:20260403T171733Z
URL:https://bcgardenclubs.com/events/sooke-garden-club-annual-spring-plant
 -sale/
SUMMARY:Sooke Garden Club Annual Spring Plant Sale
DESCRIPTION:We have it all! From sun-loving perennials to shade plants\, ve
 getable starts\, herbs\, succulents and much more. All plants are lovingly
  grown and propagated by our members and offered at great prices.  There
 ’s even a special table of Mother’s Day gifts for kids.
ATTACH;FMTTYPE=image/jpeg:https://bcgardenclubs.com/wp-content/uploads/202
 6/04/2026-Poster-for-BCCGC-Event-Page.jpg
LOCATION:Evergreen Centre\, 6660 Sooke Road\, Sooke\, BC\, V9Z 0A4\, Canada
GEO:48.378973;-123.720736
X-APPLE-STRUCTURED-LOCATION;VALUE=URI;X-ADDRESS=6660 Sooke Road\, Sooke\, B
 C\, V9Z 0A4\, Canada;X-APPLE-RADIUS=100;X-TITLE=Evergreen Centre:geo:48.37
 8973,-123.720736
END:VEVENT
BEGIN:VTIMEZONE
TZID:America/Vancouver
X-LIC-LOCATION:America/Vancouver
BEGIN:DAYLIGHT
DTSTART:20260308T030000
TZOFFSETFROM:-0800
TZOFFSETTO:-0700
TZNAME:PDT
END:DAYLIGHT
END:VTIMEZONE
END:VCALENDAR