BEGIN:VCALENDAR
VERSION:2.0
PRODID:-//wp-events-plugin.com//7.2.3.1//EN
BEGIN:VEVENT
UID:463@bcgardenclubs.com
DTSTART;TZID=America/Vancouver:20250503T090000
DTEND;TZID=America/Vancouver:20250503T120000
DTSTAMP:20250226T034816Z
URL:https://bcgardenclubs.com/events/south-surrey-garden-club-plant-sale/
SUMMARY:South Surrey Garden Club Plant Sale
DESCRIPTION:This well-organized sale has it all! From sun-loving perennials
  to favourite shade plants\, and everything in between including trees\, h
 anging baskets and unusual specimen plants. The plants are well-rooted and
  in great condition. Plus gently used tools\, soil amendments\, and garde
 ning gloves are for sale. Everything you need to get growing!
LOCATION:St Mark\\'s Anglican Church\, 12953-20 Avenue\, Surrey\, BC\, Sout
 h Surrey\, Canada
GEO:49.038784;-122.863785
X-APPLE-STRUCTURED-LOCATION;VALUE=URI;X-ADDRESS=12953-20 Avenue\, Surrey\, 
 BC\, South Surrey\, Canada;X-APPLE-RADIUS=100;X-TITLE=St Mark\\'s Anglican
  Church:geo:49.038784,-122.863785
END:VEVENT
BEGIN:VTIMEZONE
TZID:America/Vancouver
X-LIC-LOCATION:America/Vancouver
BEGIN:DAYLIGHT
DTSTART:20250309T030000
TZOFFSETFROM:-0800
TZOFFSETTO:-0700
TZNAME:PDT
END:DAYLIGHT
END:VTIMEZONE
END:VCALENDAR